BEGIN:VCALENDAR
VERSION:2.0
PRODID:-//Healthcare Fraud Shield - ECPv6.15.20//NONSGML v1.0//EN
CALSCALE:GREGORIAN
METHOD:PUBLISH
X-ORIGINAL-URL:https://www.hcfraudshield.com
X-WR-CALDESC:Events for Healthcare Fraud Shield
REFRESH-INTERVAL;VALUE=DURATION:PT1H
X-Robots-Tag:noindex
X-PUBLISHED-TTL:PT1H
BEGIN:VTIMEZONE
TZID:America/Chicago
BEGIN:DAYLIGHT
TZOFFSETFROM:-0600
TZOFFSETTO:-0500
TZNAME:CDT
DTSTART:20250309T080000
END:DAYLIGHT
BEGIN:STANDARD
TZOFFSETFROM:-0500
TZOFFSETTO:-0600
TZNAME:CST
DTSTART:20251102T070000
END:STANDARD
BEGIN:DAYLIGHT
TZOFFSETFROM:-0600
TZOFFSETTO:-0500
TZNAME:CDT
DTSTART:20260308T080000
END:DAYLIGHT
BEGIN:STANDARD
TZOFFSETFROM:-0500
TZOFFSETTO:-0600
TZNAME:CST
DTSTART:20261101T070000
END:STANDARD
BEGIN:DAYLIGHT
TZOFFSETFROM:-0600
TZOFFSETTO:-0500
TZNAME:CDT
DTSTART:20270314T080000
END:DAYLIGHT
BEGIN:STANDARD
TZOFFSETFROM:-0500
TZOFFSETTO:-0600
TZNAME:CST
DTSTART:20271107T070000
END:STANDARD
END:VTIMEZONE
BEGIN:VEVENT
DTSTART;TZID=America/Chicago:20260506T130000
DTEND;TZID=America/Chicago:20260506T140000
DTSTAMP:20260421T080053
CREATED:20260415T214703Z
LAST-MODIFIED:20260415T214703Z
UID:2895-1778072400-1778076000@www.hcfraudshield.com
SUMMARY:ACAP Webinar - From Static to Signal: Purifying Data for Precision Analytics for Fraud\, Waste\, Abuse and Error
DESCRIPTION:Documentation issues continue to drive a significant share of improper payments\, creating audit risk and slowing investigative workflows. In this webinar\, Karen Weintraub\, EVP\, examines the root causes behind incomplete and inconsistent medical records and outlines practical strategies to improve review accuracy. \nAttendees will gain insight into identifying documentation gaps\, recognizing patterns across large record sets\, and strengthening audit processes to support faster\, more confident determinations. This session is designed for payment integrity leaders\, SIU investigators\, compliance teams\, and audit professionals focused on reducing risk and improving outcomes. \nRegister here: https://us06web.zoom.us/webinar/register/4217762718563/WN_lyzcrZ4oTg24rGLrf4IpKA#/registration
URL:https://www.hcfraudshield.com/event/acap-webinar-from-static-to-signal-purifying-data-for-precision-analytics-for-fraud-waste-abuse-and-error/
LOCATION:Virtual
CATEGORIES:Upcoming Events
ATTACH;FMTTYPE=image/jpeg:https://www.hcfraudshield.com/wp-content/uploads/2026/04/January-21-2026-Webinar-4.jpg
END:VEVENT
END:VCALENDAR